Workbook

Sheet 结果表
B3: 年龄赋值 | C3: 支出赋值 | D3: 均值 | E3: 得分 | F3: 平均线 | G3: 对象标记 | H3: 综合 | I3: 价格 | J3: 销量 | K3: 人气/评论 | L3: 得分 | N3: 年龄按区间分布，每个区间进行赋值
B4: =参数表!$J$3 -> 1 | C4: =参数表!$N$3 -> 1 | D4: =AVERAGE(B4:C4) -> 1 | E4: =LN($B4)+LN($C4) -> 0 | F4: =AVERAGE(D4:D8) -> 2.5 | G4: =IF(AND(E4>=0,E4<=1.79),"0",IF(AND(E4>=1.791,E4<=5),"1","")) -> 0 | H4: 1000 | I4: 1 | J4: 400 | K4: 20 | L4: =1/(参数表!$C$3*LOG($H4+1))+1/(LN($I4+1))+1/(参数表!$C$5*LN($J4+$K4)) -> 1.6499116 | N4: 网购支出按区间分布，每个区间进行赋值
B5: =参数表!$J$3 -> 1 | C5: =参数表!$N$4 -> 2 | D5: =AVERAGE(B5:C5) -> 1.5 | E5: =LN($B9)+LN($C5) -> 1.3862944 | G5: =IF(AND(E5>=0,E5<=1.79),"0",IF(AND(E5>=1.791,E5<=5),"1","")) -> 0 | H5: 1000 | I5: 10 | J5: 400 | K5: 20 | L5: =1/(参数表!$C$3*LOG($H5+1))+1/(LN($I5+1))+1/(参数表!$C$5*LN($J5+$K5)) -> 0.62424896 | N5: 年龄和网购支出的每个区间赋值求均值
B6: =参数表!$J$3 -> 1 | C6: =参数表!$N$5 -> 4 | D6: =AVERAGE(B6:C6) -> 2.5 | E6: =LN($B19)+LN($C6) -> 2.7725887 | G6: 0 | H6: 1000 | I6: 10 | J6: 400 | K6: 20 | L6: =1/(参数表!$C$3*LOG($H6+1))+1/(LN($I6+1))+1/(参数表!$C$5*LN($J6+$K6)) -> 0.62424896 | N6: 小于等于该区间均值的为价格敏感，大于均值的综合排序
B7: =参数表!$J$3 -> 1 | C7: =参数表!$N$6 -> 5 | D7: =AVERAGE(B7:C7) -> 3 | E7: =LN($B14)+LN($C7) -> 2.7080502 | G7: =IF(AND(E7>=0,E7<=1.79),"0",IF(AND(E7>=1.791,E7<=5),"1","")) -> 1 | H7: 100 | I7: 200 | J7: 400 | K7: 20 | L7: =1/(LN($H7+1))+1/(参数表!$C$3*LOG($I7+1))+1/(参数表!$C$5*LN($J7+$K7)) -> 0.43650741
B8: =参数表!$J$7 -> 1 | C8: =参数表!$N$7 -> 8 | D8: =AVERAGE(B8:C8) -> 4.5 | E8: =LN($B8)+LN($C8) -> 2.0794415 | G8: =IF(AND(E8>=0,E8<=1.79),"0",IF(AND(E8>=1.791,E8<=5),"1","")) -> 1 | H8: 500 | I8: 200 | J8: 400 | K8: 20 | L8: =1/(LN($H8+1))+1/(参数表!$C$3*LOG($I8+1))+1/(参数表!$C$5*LN($J8+$K8)) -> 0.38068782
B9: =参数表!$J$4 -> 2 | C9: =参数表!$N$3 -> 1 | D9: =AVERAGE(B9:C9) -> 1.5 | E9: =LN($B9)+LN($C9) -> 0.69314718 | F9: =AVERAGE(D9:D13) -> 3 | G9: =IF(AND(E9>=0,E9<=1.85),"0",IF(AND(E9>=1.851,E9<=5),"1","")) -> 0 | H9: 1000 | I9: 1 | J9: 400 | K9: 20 | L9: =1/(参数表!$C$3*LOG($H9+1))+1/(LN($I9+1))+1/(参数表!$C$5*LN($J9+$K9)) -> 1.6499116
B10: =参数表!$J$4 -> 2 | C10: =参数表!$N$4 -> 2 | D10: =AVERAGE(B10:C10) -> 2 | E10: =LN($B10)+LN($C10) -> 1.3862944 | G10: =IF(AND(E10>=0,E10<=1.85),"0",IF(AND(E10>=1.851,E10<=5),"1","")) -> 0 | H10: 1000 | I10: 10 | J10: 400 | K10: 20 | L10: =1/(参数表!$C$3*LOG($H10+1))+1/(LN($I10+1))+1/(参数表!$C$5*LN($J10+$K10)) -> 0.62424896
B11: =参数表!$J$4 -> 2 | C11: =参数表!$N$5 -> 4 | D11: =AVERAGE(B11:C11) -> 3 | E11: =LN($B11)+LN($C11) -> 2.0794415 | G11: 0 | H11: 1000 | I11: 10 | J11: 400 | K11: 20 | L11: =1/(参数表!$C$3*LOG($H11+1))+1/(LN($I11+1))+1/(参数表!$C$5*LN($J11+$K11)) -> 0.62424896
B12: =参数表!$J$4 -> 2 | C12: =参数表!$N$6 -> 5 | D12: =AVERAGE(B12:C12) -> 3.5 | E12: =LN($B12)+LN($C12) -> 2.3025851 | G12: =IF(AND(E12>=0,E12<=1.85),"0",IF(AND(E12>=1.851,E12<=5),"1","")) -> 1 | H12: 100 | I12: 200 | J12: 400 | K12: 20 | L12: =1/(LN($H12+1))+1/(参数表!$C$3*LOG($I12+1))+1/(参数表!$C$5*LN($J12+$K12)) -> 0.43650741
B13: =参数表!$J$4 -> 2 | C13: =参数表!$N$7 -> 8 | D13: =AVERAGE(B13:C13) -> 5 | E13: =LN($B13)+LN($C13) -> 2.7725887 | G13: =IF(AND(E13>=0,E13<=1.85),"0",IF(AND(E13>=1.851,E13<=5),"1","")) -> 1 | H13: 500 | I13: 200 | J13: 400 | K13: 20 | L13: =1/(LN($H13+1))+1/(参数表!$C$3*LOG($I13+1))+1/(参数表!$C$5*LN($J13+$K13)) -> 0.38068782
B14: =参数表!$J$6 -> 3 | C14: =参数表!$N$3 -> 1 | D14: =AVERAGE(B14:C14) -> 2 | E14: =LN($B14)+LN($C14) -> 1.0986123 | F14: =AVERAGE(D14:D18) -> 3.5 | G14: =IF(AND(E14>=0,E14<=2.25),"0",IF(AND(E14>=2.251,E14<=5),"1","")) -> 0 | H14: 1000 | I14: 1 | J14: 400 | K14: 20 | L14: =1/(参数表!$C$3*LOG($H14+1))+1/(LN($I14+1))+1/(参数表!$C$5*LN($J14+$K14)) -> 1.6499116
B15: =参数表!$J$6 -> 3 | C15: =参数表!$N$4 -> 2 | D15: =AVERAGE(B15:C15) -> 2.5 | E15: =LN($B15)+LN($C15) -> 1.7917595 | G15: =IF(AND(E15>=0,E15<=2.25),"0",IF(AND(E15>=2.251,E15<=5),"1","")) -> 0 | H15: 1000 | I15: 10 | J15: 400 | K15: 20 | L15: =1/(参数表!$C$3*LOG($H15+1))+1/(LN($I15+1))+1/(参数表!$C$5*LN($J15+$K15)) -> 0.62424896
B16: =参数表!$J$6 -> 3 | C16: =参数表!$N$5 -> 4 | D16: =AVERAGE(B16:C16) -> 3.5 | E16: =LN($B16)+LN($C16) -> 2.4849066 | G16: 0 | H16: 1000 | I16: 10 | J16: 400 | K16: 20 | L16: =1/(参数表!$C$3*LOG($H16+1))+1/(LN($I16+1))+1/(参数表!$C$5*LN($J16+$K16)) -> 0.62424896
B17: =参数表!$J$6 -> 3 | C17: =参数表!$N$6 -> 5 | D17: =AVERAGE(B17:C17) -> 4 | E17: =LN($B17)+LN($C17) -> 2.7080502 | G17: =IF(AND(E17>=0,E17<=2.25),"0",IF(AND(E17>=2.251,E17<=5),"1","")) -> 1 | H17: 100 | I17: 200 | J17: 400 | K17: 20 | L17: =1/(LN($H17+1))+1/(参数表!$C$3*LOG($I17+1))+1/(参数表!$C$5*LN($J17+$K17)) -> 0.43650741
B18: =参数表!$J$6 -> 3 | C18: =参数表!$N$7 -> 8 | D18: =AVERAGE(B18:C18) -> 5.5 | E18: =LN($B18)+LN($C18) -> 3.1780538 | G18: =IF(AND(E18>=0,E18<=2.25),"0",IF(AND(E18>=2.251,E18<=5),"1","")) -> 1 | H18: 500 | I18: 200 | J18: 400 | K18: 20 | L18: =1/(LN($H18+1))+1/(参数表!$C$3*LOG($I18+1))+1/(参数表!$C$5*LN($J18+$K18)) -> 0.38068782
B19: =参数表!$J$5 -> 4 | C19: =参数表!$N$3 -> 1 | D19: =AVERAGE(B19:C19) -> 2.5 | E19: =LN($B19)+LN($C19) -> 1.3862944 | F19: =AVERAGE(D19:D23) -> 4 | G19: =IF(AND(E19>=0,E19<=2.54),"0",IF(AND(E19>=2.541,E19<=5),"1","")) -> 0 | H19: 1000 | I19: 1 | J19: 400 | K19: 20 | L19: =1/(参数表!$C$3*LOG($H19+1))+1/(LN($I19+1))+1/(参数表!$C$5*LN($J19+$K19)) -> 1.6499116
B20: =参数表!$J$5 -> 4 | C20: =参数表!$N$4 -> 2 | D20: =AVERAGE(B20:C20) -> 3 | E20: =LN($B20)+LN($C20) -> 2.0794415 | G20: =IF(AND(E20>=0,E20<=2.54),"0",IF(AND(E20>=2.541,E20<=5),"1","")) -> 0 | H20: 1000 | I20: 10 | J20: 400 | K20: 20 | L20: =1/(参数表!$C$3*LOG($H20+1))+1/(LN($I20+1))+1/(参数表!$C$5*LN($J20+$K20)) -> 0.62424896
B21: =参数表!$J$5 -> 4 | C21: =参数表!$N$5 -> 4 | D21: =AVERAGE(B21:C21) -> 4 | E21: =LN($B21)+LN($C21) -> 2.7725887 | G21: 0 | H21: 1000 | I21: 10 | J21: 400 | K21: 20 | L21: =1/(参数表!$C$3*LOG($H21+1))+1/(LN($I21+1))+1/(参数表!$C$5*LN($J21+$K21)) -> 0.62424896
B22: =参数表!$J$5 -> 4 | C22: =参数表!$N$6 -> 5 | D22: =AVERAGE(B22:C22) -> 4.5 | E22: =LN($B22)+LN($C22) -> 2.9957323 | G22: =IF(AND(E22>=0,E22<=2.54),"0",IF(AND(E22>=2.541,E22<=5),"1","")) -> 1 | H22: 100 | I22: 200 | J22: 400 | K22: 20 | L22: =1/(LN($H22+1))+1/(参数表!$C$3*LOG($I22+1))+1/(参数表!$C$5*LN($J22+$K22)) -> 0.43650741
B23: =参数表!$J$5 -> 4 | C23: =参数表!$N$7 -> 8 | D23: =AVERAGE(B23:C23) -> 6 | E23: =LN($B23)+LN($C23) -> 3.4657359 | G23: =IF(AND(E23>=0,E23<=2.54),"0",IF(AND(E23>=2.541,E23<=5),"1","")) -> 1 | H23: 500 | I23: 200 | J23: 400 | K23: 20 | L23: =1/(LN($H23+1))+1/(参数表!$C$3*LOG($I23+1))+1/(参数表!$C$5*LN($J23+$K23)) -> 0.38068782

Sheet 参数表
C2: 敏感度高 | D2: 敏感度低 | G2: 年龄区间 | J2: 赋值 | L2: 每月网购支出 | N2: 赋值 | P2: 性别 | Q2: 赋值 | S2: 最近关注的品类 | W2: 每月网购频次
B3: 综合取值 | C3: 8 | D3: 6 | G3: 0 | H3: 18 | I3: 0.025 | J3: 1 | L3: 0 | M3: 200 | N3: 1 | P3: 男 | Q3: 1 | S3: 电脑数码 | W3: 0 | X3: 3 | Y3: 1
B4: 价格取值 | C4: 2 | D4: 2 | G4: 19 | H4: 25 | I4: 0.16 | J4: 2 | L4: 201 | M4: 500 | N4: 2 | P4: 女 | Q4: 2 | S4: 家用电器 | W4: 4 | X4: 8 | Y4: 2
B5: 销量 | C5: 1 | D5: 1 | G5: 26 | H5: 35 | I5: 0.559 | J5: 4 | L5: 501 | M5: 1000 | N5: 4 | S5: 运动户外 | W5: 9 | X5: 以上 | Y5: 4
B6: 人气/评论 | C6: 1 | D6: 1 | G6: 36 | H6: 50 | I6: 0.217 | J6: 3 | L6: 1001 | M6: 2500 | N6: 5 | S6: 服饰鞋包
G7: 50 | H7: 以上 | I7: 0.039 | J7: 1 | L7: 2500 | M7: 以上 | N7: 8 | S7: 个护化妆
S8: 母婴用品
S9: 日用百货
S10: 食品保健
S11: 礼品钟表
S12: 图书音像
S13: 玩模乐器
S14: 办公设备
S15: 家具家装
S16: 汽车消费
S17: 其他

Sheet 测算表
C1: 价格敏感 | J1: 消费升级
A2: base | C2: =$A$3 -> 1000 | D2: 1 | E2: =$A$4 -> 400 | F2: =$A$5 -> 20 | G2: =1/(参数表!$C$3*LOG($C2+1))+1/(LN($D2+1))+1/(参数表!$C$5*LN($E2+$F2)) -> 1.6499116 | H2: =G2 -> 1.6499116 | J2: 1 | K2: =$A$7 -> 100 | L2: =$A$4 -> 400 | M2: =$A$5 -> 20 | N2: =1/(LOG($J2+1,2))+1/(参数表!$C$3*LOG($K2+1))+1/(参数表!$C$5*LN($L2+$M2)) -> 1.2279212 | O2: =1/(LN($J2+1))+1/(参数表!$C$3*LOG($K2+1))+1/(参数表!$C$5*LN($L2+$M2)) -> 1.6706162
A3: 1000 | C3: =$A$3 -> 1000 | D3: 2 | E3: =$A$4 -> 400 | F3: =$A$5 -> 20 | G3: =1/(参数表!$C$3*LOG($C3+1))+1/(LN($D3+1))+1/(参数表!$C$5*LN($E3+$F3)) -> 1.1174558 | H3: =G3 -> 1.1174558 | J3: 2 | K3: =$A$7 -> 100 | L3: =$A$4 -> 400 | M3: =$A$5 -> 20 | N3: =1/(LOG($J3+1,2))+1/(参数表!$C$3*LOG($K3+1))+1/(参数表!$C$5*LN($L3+$M3)) -> 0.85885093 | O3: =1/(LN($J3+1))+1/(参数表!$C$3*LOG($K3+1))+1/(参数表!$C$5*LN($L3+$M3)) -> 1.1381604
A4: 400 | C4: =$A$3 -> 1000 | D4: 3 | E4: =$A$4 -> 400 | F4: =$A$5 -> 20 | G4: =1/(参数表!$C$3*LOG($C4+1))+1/(LN($D4+1))+1/(参数表!$C$5*LN($E4+$F4)) -> 0.92856409 | H4: =G4 -> 0.92856409 | J4: 3 | K4: =$A$7 -> 100 | L4: =$A$4 -> 400 | M4: =$A$5 -> 20 | N4: =1/(LOG($J4+1,2))+1/(参数表!$C$3*LOG($K4+1))+1/(参数表!$C$5*LN($L4+$M4)) -> 0.72792118 | O4: =1/(LN($J4+1))+1/(参数表!$C$3*LOG($K4+1))+1/(参数表!$C$5*LN($L4+$M4)) -> 0.9492687
A5: 20 | C5: =$A$3 -> 1000 | D5: 4 | E5: =$A$4 -> 400 | F5: =$A$5 -> 20 | G5: =1/(参数表!$C$3*LOG($C5+1))+1/(LN($D5+1))+1/(参数表!$C$5*LN($E5+$F5)) -> 0.82855151 | H5: =G5 -> 0.82855151 | J5: 4 | K5: =$A$7 -> 100 | L5: =$A$4 -> 400 | M5: =$A$5 -> 20 | N5: =1/(LOG($J5+1,2))+1/(参数表!$C$3*LOG($K5+1))+1/(参数表!$C$5*LN($L5+$M5)) -> 0.65859774 | O5: =1/(LN($J5+1))+1/(参数表!$C$3*LOG($K5+1))+1/(参数表!$C$5*LN($L5+$M5)) -> 0.84925612
C6: =$A$3 -> 1000 | D6: 5 | E6: =$A$4 -> 400 | F6: =$A$5 -> 20 | G6: =1/(参数表!$C$3*LOG($C6+1))+1/(LN($D6+1))+1/(参数表!$C$5*LN($E6+$F6)) -> 0.7653272 | H6: =G6 -> 0.7653272 | J6: 5 | K6: =$A$7 -> 100 | L6: =$A$4 -> 400 | M6: =$A$5 -> 20 | N6: =1/(LOG($J6+1,2))+1/(参数表!$C$3*LOG($K6+1))+1/(参数表!$C$5*LN($L6+$M6)) -> 0.61477399 | O6: =1/(LN($J6+1))+1/(参数表!$C$3*LOG($K6+1))+1/(参数表!$C$5*LN($L6+$M6)) -> 0.78603181
A7: 100 | C7: =$A$3 -> 1000 | D7: 6 | E7: =$A$4 -> 400 | F7: =$A$5 -> 20 | G7: =1/(参数表!$C$3*LOG($C7+1))+1/(LN($D7+1))+1/(参数表!$C$5*LN($E7+$F7)) -> 0.72111491 | H7: =G7 -> 0.72111491 | J7: 6 | K7: =$A$7 -> 100 | L7: =$A$4 -> 400 | M7: =$A$5 -> 20 | N7: =1/(LOG($J7+1,2))+1/(参数表!$C$3*LOG($K7+1))+1/(参数表!$C$5*LN($L7+$M7)) -> 0.58412837 | O7: =1/(LN($J7+1))+1/(参数表!$C$3*LOG($K7+1))+1/(参数表!$C$5*LN($L7+$M7)) -> 0.74181952
C8: =$A$3 -> 1000 | D8: 7 | E8: =$A$4 -> 400 | F8: =$A$5 -> 20 | G8: =1/(参数表!$C$3*LOG($C8+1))+1/(LN($D8+1))+1/(参数表!$C$5*LN($E8+$F8)) -> 0.68811492 | H8: =G8 -> 0.68811492 | J8: 7 | K8: =$A$7 -> 100 | L8: =$A$4 -> 400 | M8: =$A$5 -> 20 | N8: =1/(LOG($J8+1,2))+1/(参数表!$C$3*LOG($K8+1))+1/(参数表!$C$5*LN($L8+$M8)) -> 0.56125451 | O8: =1/(LN($J8+1))+1/(参数表!$C$3*LOG($K8+1))+1/(参数表!$C$5*LN($L8+$M8)) -> 0.70881953
C9: =$A$3 -> 1000 | D9: 8 | E9: =$A$4 -> 400 | F9: =$A$5 -> 20 | G9: =1/(参数表!$C$3*LOG($C9+1))+1/(LN($D9+1))+1/(参数表!$C$5*LN($E9+$F9)) -> 0.66233618 | H9: =G9 -> 0.66233618 | J9: 8 | K9: =$A$7 -> 100 | L9: =$A$4 -> 400 | M9: =$A$5 -> 20 | N9: =1/(LOG($J9+1,2))+1/(参数表!$C$3*LOG($K9+1))+1/(参数表!$C$5*LN($L9+$M9)) -> 0.54338606 | O9: =1/(LN($J9+1))+1/(参数表!$C$3*LOG($K9+1))+1/(参数表!$C$5*LN($L9+$M9)) -> 0.68304079
C10: =$A$3 -> 1000 | D10: 9 | E10: =$A$4 -> 400 | F10: =$A$5 -> 20 | G10: =1/(参数表!$C$3*LOG($C10+1))+1/(LN($D10+1))+1/(参数表!$C$5*LN($E10+$F10)) -> 0.64151105 | H10: =G10 -> 0.64151105 | J10: 9 | K10: =$A$7 -> 100 | L10: =$A$4 -> 400 | M10: =$A$5 -> 20 | N10: =1/(LOG($J10+1,2))+1/(参数表!$C$3*LOG($K10+1))+1/(参数表!$C$5*LN($L10+$M10)) -> 0.52895118 | O10: =1/(LN($J10+1))+1/(参数表!$C$3*LOG($K10+1))+1/(参数表!$C$5*LN($L10+$M10)) -> 0.66221566
C11: =$A$3 -> 1000 | D11: 10 | E11: =$A$4 -> 400 | F11: =$A$5 -> 20 | G11: =1/(参数表!$C$3*LOG($C11+1))+1/(LN($D11+1))+1/(参数表!$C$5*LN($E11+$F11)) -> 0.62424896 | H11: =G11 -> 0.62424896 | J11: 10 | K11: =$A$7 -> 100 | L11: =$A$4 -> 400 | M11: =$A$5 -> 20 | N11: =1/(LOG($J11+1,2))+1/(参数表!$C$3*LOG($K11+1))+1/(参数表!$C$5*LN($L11+$M11)) -> 0.51698601 | O11: =1/(LN($J11+1))+1/(参数表!$C$3*LOG($K11+1))+1/(参数表!$C$5*LN($L11+$M11)) -> 0.64495357
C12: =$A$3 -> 1000 | D12: 11 | E12: =$A$4 -> 400 | F12: =$A$5 -> 20 | G12: =1/(参数表!$C$3*LOG($C12+1))+1/(LN($D12+1))+1/(参数表!$C$5*LN($E12+$F12)) -> 0.60964618 | H12: =G12 -> 0.60964618 | J12: 11 | K12: =$A$7 -> 100 | L12: =$A$4 -> 400 | M12: =$A$5 -> 20 | N12: =1/(LOG($J12+1,2))+1/(参数表!$C$3*LOG($K12+1))+1/(参数表!$C$5*LN($L12+$M12)) -> 0.50686413 | O12: =1/(LN($J12+1))+1/(参数表!$C$3*LOG($K12+1))+1/(参数表!$C$5*LN($L12+$M12)) -> 0.63035078
C13: =$A$3 -> 1000 | D13: 12 | E13: =$A$4 -> 400 | F13: =$A$5 -> 20 | G13: =1/(参数表!$C$3*LOG($C13+1))+1/(LN($D13+1))+1/(参数表!$C$5*LN($E13+$F13)) -> 0.59708782 | H13: =G13 -> 0.59708782 | J13: 12 | K13: =$A$7 -> 100 | L13: =$A$4 -> 400 | M13: =$A$5 -> 20 | N13: =1/(LOG($J13+1,2))+1/(参数表!$C$3*LOG($K13+1))+1/(参数表!$C$5*LN($L13+$M13)) -> 0.49815933 | O13: =1/(LN($J13+1))+1/(参数表!$C$3*LOG($K13+1))+1/(参数表!$C$5*LN($L13+$M13)) -> 0.61779243
C14: =$A$3 -> 1000 | D14: 13 | E14: =$A$4 -> 400 | F14: =$A$5 -> 20 | G14: =1/(参数表!$C$3*LOG($C14+1))+1/(LN($D14+1))+1/(参数表!$C$5*LN($E14+$F14)) -> 0.58613975 | H14: =G14 -> 0.58613975 | J14: 13 | K14: =$A$7 -> 100 | L14: =$A$4 -> 400 | M14: =$A$5 -> 20 | N14: =1/(LOG($J14+1,2))+1/(参数表!$C$3*LOG($K14+1))+1/(参数表!$C$5*LN($L14+$M14)) -> 0.49057072 | O14: =1/(LN($J14+1))+1/(参数表!$C$3*LOG($K14+1))+1/(参数表!$C$5*LN($L14+$M14)) -> 0.60684436
C15: =$A$3 -> 1000 | D15: 14 | E15: =$A$4 -> 400 | F15: =$A$5 -> 20 | G15: =1/(参数表!$C$3*LOG($C15+1))+1/(LN($D15+1))+1/(参数表!$C$5*LN($E15+$F15)) -> 0.57648594 | H15: =G15 -> 0.57648594 | J15: 14 | K15: =$A$7 -> 100 | L15: =$A$4 -> 400 | M15: =$A$5 -> 20 | N15: =1/(LOG($J15+1,2))+1/(参数表!$C$3*LOG($K15+1))+1/(参数表!$C$5*LN($L15+$M15)) -> 0.48387921 | O15: =1/(LN($J15+1))+1/(参数表!$C$3*LOG($K15+1))+1/(参数表!$C$5*LN($L15+$M15)) -> 0.59719055
C16: =$A$3 -> 1000 | D16: 15 | E16: =$A$4 -> 400 | F16: =$A$5 -> 20 | G16: =1/(参数表!$C$3*LOG($C16+1))+1/(LN($D16+1))+1/(参数表!$C$5*LN($E16+$F16)) -> 0.56789033 | H16: =G16 -> 0.56789033 | J16: 15 | K16: =$A$7 -> 100 | L16: =$A$4 -> 400 | M16: =$A$5 -> 20 | N16: =1/(LOG($J16+1,2))+1/(参数表!$C$3*LOG($K16+1))+1/(参数表!$C$5*LN($L16+$M16)) -> 0.47792118 | O16: =1/(LN($J16+1))+1/(参数表!$C$3*LOG($K16+1))+1/(参数表!$C$5*LN($L16+$M16)) -> 0.58859494
C17: =$A$3 -> 1000 | D17: 16 | E17: =$A$4 -> 400 | F17: =$A$5 -> 20 | G17: =1/(参数表!$C$3*LOG($C17+1))+1/(LN($D17+1))+1/(参数表!$C$5*LN($E17+$F17)) -> 0.56017269 | H17: =G17 -> 0.56017269 | J17: 16 | K17: =$A$7 -> 100 | L17: =$A$4 -> 400 | M17: =$A$5 -> 20 | N17: =1/(LOG($J17+1,2))+1/(参数表!$C$3*LOG($K17+1))+1/(参数表!$C$5*LN($L17+$M17)) -> 0.47257172 | O17: =1/(LN($J17+1))+1/(参数表!$C$3*LOG($K17+1))+1/(参数表!$C$5*LN($L17+$M17)) -> 0.5808773
C18: =$A$3 -> 1000 | D18: 17 | E18: =$A$4 -> 400 | F18: =$A$5 -> 20 | G18: =1/(参数表!$C$3*LOG($C18+1))+1/(LN($D18+1))+1/(参数表!$C$5*LN($E18+$F18)) -> 0.55319283 | H18: =G18 -> 0.55319283 | J18: 17 | K18: =$A$7 -> 100 | L18: =$A$4 -> 400 | M18: =$A$5 -> 20 | N18: =1/(LOG($J18+1,2))+1/(参数表!$C$3*LOG($K18+1))+1/(参数表!$C$5*LN($L18+$M18)) -> 0.46773365 | O18: =1/(LN($J18+1))+1/(参数表!$C$3*LOG($K18+1))+1/(参数表!$C$5*LN($L18+$M18)) -> 0.57389744
C19: =$A$3 -> 1000 | D19: 18 | E19: =$A$4 -> 400 | F19: =$A$5 -> 20 | G19: =1/(参数表!$C$3*LOG($C19+1))+1/(LN($D19+1))+1/(参数表!$C$5*LN($E19+$F19)) -> 0.54683984 | H19: =G19 -> 0.54683984 | J19: 18 | K19: =$A$7 -> 100 | L19: =$A$4 -> 400 | M19: =$A$5 -> 20 | N19: =1/(LOG($J19+1,2))+1/(参数表!$C$3*LOG($K19+1))+1/(参数表!$C$5*LN($L19+$M19)) -> 0.46333009 | O19: =1/(LN($J19+1))+1/(参数表!$C$3*LOG($K19+1))+1/(参数表!$C$5*LN($L19+$M19)) -> 0.56754445
... C101: =$A$3 -> 1000 | D101: 100 | E101: =$A$4 -> 400 | F101: =$A$5 -> 20 | G101: =1/(参数表!$C$3*LOG($C101+1))+1/(LN($D101+1))+1/(参数表!$C$5*LN($E101+$F101)) -> 0.42389564 | H101: =G101 -> 0.42389564 | J101: 100 | K101: =$A$7 -> 100 | L101: =$A$4 -> 400 | M101: =$A$5 -> 20 | N101: =1/(LOG($J101+1,2))+1/(参数表!$C$3*LOG($K101+1))+1/(参数表!$C$5*LN($L101+$M101)) -> 0.37811166 | O101: =1/(LN($J101+1))+1/(参数表!$C$3*LOG($K101+1))+1/(参数表!$C$5*LN($L101+$M101)) -> 0.44460025
J102: 101 | K102: =$A$7 -> 100 | L102: =$A$4 -> 400 | M102: =$A$5 -> 20 | N102: =1/(LOG($J102+1,2))+1/(参数表!$C$3*LOG($K102+1))+1/(参数表!$C$5*LN($L102+$M102)) -> 0.37779172 | O102: =1/(LN($J102+1))+1/(参数表!$C$3*LOG($K102+1))+1/(参数表!$C$5*LN($L102+$M102)) -> 0.44413867
J103: 102 | K103: =$A$7 -> 100 | L103: =$A$4 -> 400 | M103: =$A$5 -> 20 | N103: =1/(LOG($J103+1,2))+1/(参数表!$C$3*LOG($K103+1))+1/(参数表!$C$5*LN($L103+$M103)) -> 0.37747624 | O103: =1/(LN($J103+1))+1/(参数表!$C$3*LOG($K103+1))+1/(参数表!$C$5*LN($L103+$M103)) -> 0.44368353
J104: 103 | K104: =$A$7 -> 100 | L104: =$A$4 -> 400 | M104: =$A$5 -> 20 | N104: =1/(LOG($J104+1,2))+1/(参数表!$C$3*LOG($K104+1))+1/(参数表!$C$5*LN($L104+$M104)) -> 0.37716512 | O104: =1/(LN($J104+1))+1/(参数表!$C$3*LOG($K104+1))+1/(参数表!$C$5*LN($L104+$M104)) -> 0.44323467
J105: 104 | K105: =$A$7 -> 100 | L105: =$A$4 -> 400 | M105: =$A$5 -> 20 | N105: =1/(LOG($J105+1,2))+1/(参数表!$C$3*LOG($K105+1))+1/(参数表!$C$5*LN($L105+$M105)) -> 0.37685824 | O105: =1/(LN($J105+1))+1/(参数表!$C$3*LOG($K105+1))+1/(参数表!$C$5*LN($L105+$M105)) -> 0.44279194
J106: 105 | K106: =$A$7 -> 100 | L106: =$A$4 -> 400 | M106: =$A$5 -> 20 | N106: =1/(LOG($J106+1,2))+1/(参数表!$C$3*LOG($K106+1))+1/(参数表!$C$5*LN($L106+$M106)) -> 0.37655552 | O106: =1/(LN($J106+1))+1/(参数表!$C$3*LOG($K106+1))+1/(参数表!$C$5*LN($L106+$M106)) -> 0.4423552
J107: 106 | K107: =$A$7 -> 100 | L107: =$A$4 -> 400 | M107: =$A$5 -> 20 | N107: =1/(LOG($J107+1,2))+1/(参数表!$C$3*LOG($K107+1))+1/(参数表!$C$5*LN($L107+$M107)) -> 0.37625685 | O107: =1/(LN($J107+1))+1/(参数表!$C$3*LOG($K107+1))+1/(参数表!$C$5*LN($L107+$M107)) -> 0.44192431
J108: 107 | K108: =$A$7 -> 100 | L108: =$A$4 -> 400 | M108: =$A$5 -> 20 | N108: =1/(LOG($J108+1,2))+1/(参数表!$C$3*LOG($K108+1))+1/(参数表!$C$5*LN($L108+$M108)) -> 0.37596214 | O108: =1/(LN($J108+1))+1/(参数表!$C$3*LOG($K108+1))+1/(参数表!$C$5*LN($L108+$M108)) -> 0.44149913
J109: 108 | K109: =$A$7 -> 100 | L109: =$A$4 -> 400 | M109: =$A$5 -> 20 | N109: =1/(LOG($J109+1,2))+1/(参数表!$C$3*LOG($K109+1))+1/(参数表!$C$5*LN($L109+$M109)) -> 0.37567129 | O109: =1/(LN($J109+1))+1/(参数表!$C$3*LOG($K109+1))+1/(参数表!$C$5*LN($L109+$M109)) -> 0.44107954
J110: 109 | K110: =$A$7 -> 100 | L110: =$A$4 -> 400 | M110: =$A$5 -> 20 | N110: =1/(LOG($J110+1,2))+1/(参数表!$C$3*LOG($K110+1))+1/(参数表!$C$5*LN($L110+$M110)) -> 0.37538423 | O110: =1/(LN($J110+1))+1/(参数表!$C$3*LOG($K110+1))+1/(参数表!$C$5*LN($L110+$M110)) -> 0.44066539
J111: 110 | K111: =$A$7 -> 100 | L111: =$A$4 -> 400 | M111: =$A$5 -> 20 | N111: =1/(LOG($J111+1,2))+1/(参数表!$C$3*LOG($K111+1))+1/(参数表!$C$5*LN($L111+$M111)) -> 0.37510087 | O111: =1/(LN($J111+1))+1/(参数表!$C$3*LOG($K111+1))+1/(参数表!$C$5*LN($L111+$M111)) -> 0.44025658
J112: 111 | K112: =$A$7 -> 100 | L112: =$A$4 -> 400 | M112: =$A$5 -> 20 | N112: =1/(LOG($J112+1,2))+1/(参数表!$C$3*LOG($K112+1))+1/(参数表!$C$5*LN($L112+$M112)) -> 0.37482112 | O112: =1/(LN($J112+1))+1/(参数表!$C$3*LOG($K112+1))+1/(参数表!$C$5*LN($L112+$M112)) -> 0.43985299
J113: 112 | K113: =$A$7 -> 100 | L113: =$A$4 -> 400 | M113: =$A$5 -> 20 | N113: =1/(LOG($J113+1,2))+1/(参数表!$C$3*LOG($K113+1))+1/(参数表!$C$5*LN($L113+$M113)) -> 0.3745449 | O113: =1/(LN($J113+1))+1/(参数表!$C$3*LOG($K113+1))+1/(参数表!$C$5*LN($L113+$M113)) -> 0.43945449
... J201: 200 | K201: =$A$7 -> 100 | L201: =$A$4 -> 400 | M201: =$A$5 -> 20 | N201: =1/(LOG($J201+1,2))+1/(参数表!$C$3*LOG($K201+1))+1/(参数表!$C$5*LN($L201+$M201)) -> 0.35862217 | O201: =1/(LN($J201+1))+1/(参数表!$C$3*LOG($K201+1))+1/(参数表!$C$5*LN($L201+$M201)) -> 0.41648284
